BEGIN:VCALENDAR
VERSION:2.0
PRODID:-//Birnham Woods Elementary PTO - ECPv6.15.16//NONSGML v1.0//EN
CALSCALE:GREGORIAN
METHOD:PUBLISH
X-WR-CALNAME:Birnham Woods Elementary PTO
X-ORIGINAL-URL:https://bwepto.org
X-WR-CALDESC:Events for Birnham Woods Elementary PTO
REFRESH-INTERVAL;VALUE=DURATION:PT1H
X-Robots-Tag:noindex
X-PUBLISHED-TTL:PT1H
BEGIN:VTIMEZONE
TZID:UTC
BEGIN:STANDARD
TZOFFSETFROM:+0000
TZOFFSETTO:+0000
TZNAME:UTC
DTSTART:20240101T000000
END:STANDARD
END:VTIMEZONE
BEGIN:VTIMEZONE
TZID:America/Chicago
BEGIN:DAYLIGHT
TZOFFSETFROM:-0600
TZOFFSETTO:-0500
TZNAME:CDT
DTSTART:20250309T080000
END:DAYLIGHT
BEGIN:STANDARD
TZOFFSETFROM:-0500
TZOFFSETTO:-0600
TZNAME:CST
DTSTART:20251102T070000
END:STANDARD
BEGIN:DAYLIGHT
TZOFFSETFROM:-0600
TZOFFSETTO:-0500
TZNAME:CDT
DTSTART:20260308T080000
END:DAYLIGHT
BEGIN:STANDARD
TZOFFSETFROM:-0500
TZOFFSETTO:-0600
TZNAME:CST
DTSTART:20261101T070000
END:STANDARD
BEGIN:DAYLIGHT
TZOFFSETFROM:-0600
TZOFFSETTO:-0500
TZNAME:CDT
DTSTART:20270314T080000
END:DAYLIGHT
BEGIN:STANDARD
TZOFFSETFROM:-0500
TZOFFSETTO:-0600
TZNAME:CST
DTSTART:20271107T070000
END:STANDARD
END:VTIMEZONE
BEGIN:VEVENT
DTSTART;TZID=UTC:20251219T121000
DTEND;TZID=UTC:20260106T075000
DTSTAMP:20260423T164220
CREATED:20230719T031854Z
LAST-MODIFIED:20250821T134551Z
UID:580-1766146200-1767685800@bwepto.org
SUMMARY:Holiday Break
DESCRIPTION:🎄✨ Enjoy Your Holidays! ✨🎄 \nWishing all of our BWE families joy\, laughter\, and lots of holiday cheer! 💛🐾Thank you for making this year so special — we can’t wait to see everyone back in 2026! 🎉🥳 \n❄️ Have a safe and happy holiday season! ❄️
URL:https://bwepto.org/event/holiday-break/
LOCATION:Birnham Woods Elementary\, 31150 Birnham Woods\, Spring\, TX\, 77386\, United States
CATEGORIES:School Holiday
ATTACH;FMTTYPE=image/png:https://bwepto.org/wp-content/uploads/2025/08/holiday-break.png
ORGANIZER;CN="Birnham Woods Elementary":MAILTO:birnhamwoods@conroeisd.net
END:VEVENT
BEGIN:VEVENT
DTSTART;VALUE=DATE:20260105
DTEND;VALUE=DATE:20260106
DTSTAMP:20260423T164220
CREATED:20230719T032033Z
LAST-MODIFIED:20250829T144122Z
UID:583-1767571200-1767657599@bwepto.org
SUMMARY:Staff Workday
DESCRIPTION:Staff workday. No school for students.
URL:https://bwepto.org/event/staff-workday/
LOCATION:Birnham Woods Elementary\, 31150 Birnham Woods\, Spring\, TX\, 77386\, United States
CATEGORIES:School Holiday
ATTACH;FMTTYPE=image/png:https://bwepto.org/wp-content/uploads/2025/08/staff-development.png
ORGANIZER;CN="Birnham Woods Elementary":MAILTO:birnhamwoods@conroeisd.net
END:VEVENT
BEGIN:VEVENT
DTSTART;VALUE=DATE:20260106
DTEND;VALUE=DATE:20260107
DTSTAMP:20260423T164220
CREATED:20230719T032220Z
LAST-MODIFIED:20250821T142353Z
UID:586-1767657600-1767743999@bwepto.org
SUMMARY:Students Return to School
DESCRIPTION:🎉🐾 Welcome Back\, Bulldogs! 🐾🎉 \nHappy New Year and cheers to 2026! ✨🥳We’re so excited to kick off another year of learning\, growing\, and Bulldog pride at BWE. 💛📚 \nLet’s make 2026 the best year yet! 🌟
URL:https://bwepto.org/event/students-return-to-school/
LOCATION:Birnham Woods Elementary\, 31150 Birnham Woods\, Spring\, TX\, 77386\, United States
CATEGORIES:All School Event
ATTACH;FMTTYPE=image/png:https://bwepto.org/wp-content/uploads/2025/08/welcome-back-students.png
ORGANIZER;CN="Birnham Woods Elementary":MAILTO:birnhamwoods@conroeisd.net
END:VEVENT
BEGIN:VEVENT
DTSTART;TZID=UTC:20260108T093000
DTEND;TZID=UTC:20260108T103000
DTSTAMP:20260423T164220
CREATED:20230719T032745Z
LAST-MODIFIED:20251216T035644Z
UID:596-1767864600-1767868200@bwepto.org
SUMMARY:PTO General Meeting – January
DESCRIPTION:🐾📅 Join the BWE PTO Meeting! 📅🐾 \nWant to get more involved at Birnham Woods Elementary? 💛✨Come join our monthly PTO meeting! \nWe’ll be:✔️ Reviewing recent event successes 🎉✔️ Planning exciting upcoming events 📚🌟✔️ Asking for volunteers to help make it all happen 🙌 \nYour voice and support make a big difference — we’d love to see you there! 💐
URL:https://bwepto.org/event/pto-general-meeting-january/
LOCATION:The Falls at Imperial Oaks Clubhouse\, 31220 Birnham Woods\, Spring\, TX\, 77386\, United States
CATEGORIES:PTO Event
ATTACH;FMTTYPE=image/png:https://bwepto.org/wp-content/uploads/2025/12/January-pto-meeting.png
END:VEVENT
BEGIN:VEVENT
DTSTART;VALUE=DATE:20260109
DTEND;VALUE=DATE:20260110
DTSTAMP:20260423T164221
CREATED:20230719T032600Z
LAST-MODIFIED:20250821T135157Z
UID:591-1767916800-1768003199@bwepto.org
SUMMARY:Law Enforcement Appreciation Day
DESCRIPTION:💙🚓 Thank You\, Law Enforcement! 🚓💙 \nWe are so grateful to all the brave men and women in law enforcement.Thank you for your dedication\, courage\, and the hard work you do each day to keep us safe. 🌟🙏 \nYour service makes a difference in our community\, and we appreciate you! 💛🐾
URL:https://bwepto.org/event/law-enforcement-appreciation-day/
LOCATION:Birnham Woods Elementary\, 31150 Birnham Woods\, Spring\, TX\, 77386\, United States
CATEGORIES:All School Event
ATTACH;FMTTYPE=image/png:https://bwepto.org/wp-content/uploads/2025/08/law-enforcement-appreciation-day.png
ORGANIZER;CN="Birnham Woods Elementary":MAILTO:birnhamwoods@conroeisd.net
END:VEVENT
BEGIN:VEVENT
DTSTART;TZID=America/Chicago:20260115T110000
DTEND;TZID=America/Chicago:20260115T210000
DTSTAMP:20260423T164221
CREATED:20251210T184803Z
LAST-MODIFIED:20251210T185209Z
UID:3076-1768474800-1768510800@bwepto.org
SUMMARY:Spirit Night - Phat Eatery
DESCRIPTION:🍽️ Spirit Night at Phat Eatery – The Woodlands📅 January 15\, 2026 \nJoin us for a delicious night out while supporting a great cause! Phat Eatery in The Woodlands will be hosting a Spirit Night on January 15\, 2026\, and you’re invited. \nWhether you dine in or pick up a meal to-go\, simply mention “BWE” at checkout\, and a portion of your purchase will be donated to support BWE’s programs and initiatives. It’s an easy (and tasty!) way to give back. \nBring your friends\, family\, and an appetite—let’s make this a successful night for BWE!
URL:https://bwepto.org/event/spirit-night-phat-eatery/
LOCATION:Phat Eatery\, 2290 Buckthorne Pl\, The Woodlands\, TX\, 77380\, United States
CATEGORIES:All School Event,PTO Event,Spirit Night
ATTACH;FMTTYPE=image/png:https://bwepto.org/wp-content/uploads/2025/12/phat.png
END:VEVENT
BEGIN:VEVENT
DTSTART;VALUE=DATE:20260119
DTEND;VALUE=DATE:20260120
DTSTAMP:20260423T164221
CREATED:20230719T032848Z
LAST-MODIFIED:20250829T144242Z
UID:599-1768780800-1768867199@bwepto.org
SUMMARY:School Holiday
DESCRIPTION:No school today! Enjoy your day off of school!
URL:https://bwepto.org/event/school-holiday-2/
LOCATION:Birnham Woods Elementary\, 31150 Birnham Woods\, Spring\, TX\, 77386\, United States
CATEGORIES:All School Event
ATTACH;FMTTYPE=image/png:https://bwepto.org/wp-content/uploads/2025/08/no-school-generic.png
ORGANIZER;CN="Birnham Woods Elementary":MAILTO:birnhamwoods@conroeisd.net
END:VEVENT
BEGIN:VEVENT
DTSTART;TZID=America/Chicago:20260123T180000
DTEND;TZID=America/Chicago:20260123T200000
DTSTAMP:20260423T164221
CREATED:20251031T153157Z
LAST-MODIFIED:20260106T142510Z
UID:3002-1769191200-1769198400@bwepto.org
SUMMARY:Boys Paint Night
DESCRIPTION:🎨 Calling All Boys and Their Parents! \nMark your calendars for an unforgettable Boys Paint Night on January 23rd at BWE! \nGet ready for an evening full of drip\, energy\, and creativity as you and your favorite grown-up team up to paint\, laugh\, and make some colorful memories. We’re thrilled to welcome special guest Mr. T\, who’ll help bring the vibes and keep the energy high all night long. \n👨‍🎨 Details: \n\nWho: BWE students only (each student must be accompanied by an adult over 18)\nWhen: Thursday\, January 23\, 2026\nWhere: BWE\nTickets: On sale starting January 2026\n\nDon’t miss this night of art\, music\, and fun — it’s going to be legendary! \nPURCHASE YOUR TICKETS BEFORE THEY SELL OUT!!\nTHANK YOU TO OUR GENEROUS SPONSOR
URL:https://bwepto.org/event/boys-paint-night/
LOCATION:Birnham Woods Elementary\, 31150 Birnham Woods\, Spring\, TX\, 77386\, United States
CATEGORIES:All School Event
ATTACH;FMTTYPE=image/jpeg:https://bwepto.org/wp-content/uploads/2025/10/boys-paint-night-tickets.jpeg
END:VEVENT
END:VCALENDAR