BEGIN:VCALENDAR
VERSION:2.0
PRODID:-//Birnham Woods Elementary PTO - ECPv6.15.16//NONSGML v1.0//EN
CALSCALE:GREGORIAN
METHOD:PUBLISH
X-ORIGINAL-URL:https://bwepto.org
X-WR-CALDESC:Events for Birnham Woods Elementary PTO
REFRESH-INTERVAL;VALUE=DURATION:PT1H
X-Robots-Tag:noindex
X-PUBLISHED-TTL:PT1H
BEGIN:VTIMEZONE
TZID:America/Chicago
BEGIN:DAYLIGHT
TZOFFSETFROM:-0600
TZOFFSETTO:-0500
TZNAME:CDT
DTSTART:20240310T080000
END:DAYLIGHT
BEGIN:STANDARD
TZOFFSETFROM:-0500
TZOFFSETTO:-0600
TZNAME:CST
DTSTART:20241103T070000
END:STANDARD
BEGIN:DAYLIGHT
TZOFFSETFROM:-0600
TZOFFSETTO:-0500
TZNAME:CDT
DTSTART:20250309T080000
END:DAYLIGHT
BEGIN:STANDARD
TZOFFSETFROM:-0500
TZOFFSETTO:-0600
TZNAME:CST
DTSTART:20251102T070000
END:STANDARD
BEGIN:DAYLIGHT
TZOFFSETFROM:-0600
TZOFFSETTO:-0500
TZNAME:CDT
DTSTART:20260308T080000
END:DAYLIGHT
BEGIN:STANDARD
TZOFFSETFROM:-0500
TZOFFSETTO:-0600
TZNAME:CST
DTSTART:20261101T070000
END:STANDARD
END:VTIMEZONE
BEGIN:VTIMEZONE
TZID:UTC
BEGIN:STANDARD
TZOFFSETFROM:+0000
TZOFFSETTO:+0000
TZNAME:UTC
DTSTART:20240101T000000
END:STANDARD
END:VTIMEZONE
BEGIN:VEVENT
DTSTART;TZID=America/Chicago:20250806T180000
DTEND;TZID=America/Chicago:20250806T200000
DTSTAMP:20260424T011235
CREATED:20250714T150932Z
LAST-MODIFIED:20250714T150932Z
UID:2173-1754503200-1754510400@bwepto.org
SUMMARY:4th Grade Pool Party
DESCRIPTION:Attention Incoming 4th Graders! \nJoin your fellow incoming Top Dogs at a Pool Party! Spots are limited so purchase your ticket now! \nhttps://my.cheddarup.com/c/bwe-pool-party \nHurry! Spots are limited. Buy your ticket before they sell out! Tell your friends!
URL:https://bwepto.org/event/4th-grade-pool-party/
LOCATION:The Falls at Imperial Oaks Clubhouse\, 31220 Birnham Woods\, Spring\, TX\, 77386\, United States
CATEGORIES:4th Grade Only
ATTACH;FMTTYPE=image/png:https://bwepto.org/wp-content/uploads/2025/06/pool-party.png
END:VEVENT
BEGIN:VEVENT
DTSTART;TZID=America/Chicago:20250807T180000
DTEND;TZID=America/Chicago:20250807T200000
DTSTAMP:20260424T011235
CREATED:20250714T151320Z
LAST-MODIFIED:20250714T151320Z
UID:2176-1754589600-1754596800@bwepto.org
SUMMARY:3rd Grade Pool Party
DESCRIPTION:Attention Incoming 3rd Graders! \nJoin your fellow incoming 3rd Graders at a Pool Party! Spots are limited so purchase your ticket now! \nhttps://my.cheddarup.com/c/bwe-pool-party \nHurry! Spots are limited. Buy your ticket before they sell out! Tell your friends!
URL:https://bwepto.org/event/3rd-grade-pool-party/
LOCATION:The Falls at Imperial Oaks Clubhouse\, 31220 Birnham Woods\, Spring\, TX\, 77386\, United States
CATEGORIES:3rd Grade Only
ATTACH;FMTTYPE=image/png:https://bwepto.org/wp-content/uploads/2025/06/pool-party.png
END:VEVENT
BEGIN:VEVENT
DTSTART;TZID=America/Chicago:20250808T180000
DTEND;TZID=America/Chicago:20250808T200000
DTSTAMP:20260424T011235
CREATED:20250611T193448Z
LAST-MODIFIED:20250618T201812Z
UID:2052-1754676000-1754683200@bwepto.org
SUMMARY:Black Light Bash
DESCRIPTION:Kick off the new school year at our annual Black Light Bash!
URL:https://bwepto.org/event/black-light-bash/
LOCATION:Birnham Woods Elementary\, 31150 Birnham Woods\, Spring\, TX\, 77386\, United States
CATEGORIES:1st Grade Only,2nd Grade Only,3rd Grade Only,4th Grade Only,External School Event
ATTACH;FMTTYPE=image/jpeg:https://bwepto.org/wp-content/uploads/2025/06/Black-Light-Bash-2025.jpg
ORGANIZER;CN="Birnham Woods Elementary":MAILTO:birnhamwoods@conroeisd.net
END:VEVENT
BEGIN:VEVENT
DTSTART;TZID=UTC:20250813T080000
DTEND;TZID=UTC:20250813T151000
DTSTAMP:20260424T011235
CREATED:20230715T033734Z
LAST-MODIFIED:20250610T194951Z
UID:422-1755072000-1755097800@bwepto.org
SUMMARY:First Day of School
DESCRIPTION:Join Champ and the Birnham Woods faculty and staff as they kick off the 2024-2025 school year!
URL:https://bwepto.org/event/first-day-of-school/
LOCATION:Birnham Woods Elementary\, 31150 Birnham Woods\, Spring\, TX\, 77386\, United States
CATEGORIES:All School Event
ATTACH;FMTTYPE=image/jpeg:https://bwepto.org/wp-content/uploads/2023/07/first-day-of-school.jpg
ORGANIZER;CN="Birnham Woods Elementary":MAILTO:birnhamwoods@conroeisd.net
END:VEVENT
BEGIN:VEVENT
DTSTART;TZID=UTC:20250813T110000
DTEND;TZID=UTC:20250813T210000
DTSTAMP:20260424T011235
CREATED:20230803T012558Z
LAST-MODIFIED:20250714T145435Z
UID:852-1755082800-1755118800@bwepto.org
SUMMARY:Spirit Night - Great American Cookie Company/Marble Slab Creamery
DESCRIPTION:Celebrate the first day of school with some yummy ice cream and cookies at Great American Cookie Company/Marble Slab Creamery from 2-8pm! Mention Birnham Woods Elementary so that our PTO receives a % of your purchase. Thank you for supporting BWE to help us be the Best Place to Be!
URL:https://bwepto.org/event/spirit-night-great-american-cookie-company-marble-slab-creamery/
LOCATION:Great American Cookie Company/Marble Slab Creamery\, 3779 Riley Fuzzel Rd. #600\, Spring\, TX\, 77386\, United States
CATEGORIES:PTO Event,Spirit Night
ATTACH;FMTTYPE=image/png:https://bwepto.org/wp-content/uploads/2025/06/great-american-cookie.png
END:VEVENT
END:VCALENDAR