BEGIN:VCALENDAR
VERSION:2.0
PRODID:-//Birnham Woods Elementary PTO - ECPv6.15.16//NONSGML v1.0//EN
CALSCALE:GREGORIAN
METHOD:PUBLISH
X-ORIGINAL-URL:https://bwepto.org
X-WR-CALDESC:Events for Birnham Woods Elementary PTO
REFRESH-INTERVAL;VALUE=DURATION:PT1H
X-Robots-Tag:noindex
X-PUBLISHED-TTL:PT1H
BEGIN:VTIMEZONE
TZID:UTC
BEGIN:STANDARD
TZOFFSETFROM:+0000
TZOFFSETTO:+0000
TZNAME:UTC
DTSTART:20230101T000000
END:STANDARD
END:VTIMEZONE
BEGIN:VEVENT
DTSTART;VALUE=DATE:20241008
DTEND;VALUE=DATE:20241009
DTSTAMP:20260424T184758
CREATED:20230717T003127Z
LAST-MODIFIED:20240722T141056Z
UID:496-1728345600-1728431999@bwepto.org
SUMMARY:Boosterthon Kick Off Pep Rally
DESCRIPTION:Champ and the Boosterthon team are kicking off Boosterthon with a pep rally to jazz up our kids for their upcoming fun run. Make sure to set up your account online and start accepting those donations!
URL:https://bwepto.org/event/boosterthon-kick-off-pep-rally/
LOCATION:Birnham Woods Elementary\, 31150 Birnham Woods\, Spring\, TX\, 77386\, United States
CATEGORIES:All School Event
ATTACH;FMTTYPE=image/png:https://bwepto.org/wp-content/uploads/2023/07/boosterthon.png
ORGANIZER;CN="Birnham Woods Elementary":MAILTO:birnhamwoods@conroeisd.net
END:VEVENT
BEGIN:VEVENT
DTSTART;TZID=UTC:20241018T080000
DTEND;TZID=UTC:20241018T151000
DTSTAMP:20260424T184758
CREATED:20230717T005309Z
LAST-MODIFIED:20240722T141429Z
UID:505-1729238400-1729264200@bwepto.org
SUMMARY:Boosterthon Fun Run
DESCRIPTION:Lace up your running shoes and get ready to count those laps as we kick off Boosterthon! In order to fund all of those fun events throughout the year we are counting on donations for each lap run in the fun run for Boosterthon! \nCome out and cheer on your runners throughout the day as their laps are marked!
URL:https://bwepto.org/event/boosterthon-fun-run/
LOCATION:Birnham Woods Elementary\, 31150 Birnham Woods\, Spring\, TX\, 77386\, United States
CATEGORIES:All School Event
ATTACH;FMTTYPE=image/jpeg:https://bwepto.org/wp-content/uploads/2023/06/IMG_5648.jpg
END:VEVENT
END:VCALENDAR