BEGIN:VCALENDAR
VERSION:2.0
PRODID:-//Birnham Woods Elementary PTO - ECPv6.15.16//NONSGML v1.0//EN
CALSCALE:GREGORIAN
METHOD:PUBLISH
X-WR-CALNAME:Birnham Woods Elementary PTO
X-ORIGINAL-URL:https://bwepto.org
X-WR-CALDESC:Events for Birnham Woods Elementary PTO
REFRESH-INTERVAL;VALUE=DURATION:PT1H
X-Robots-Tag:noindex
X-PUBLISHED-TTL:PT1H
BEGIN:VTIMEZONE
TZID:UTC
BEGIN:STANDARD
TZOFFSETFROM:+0000
TZOFFSETTO:+0000
TZNAME:UTC
DTSTART:20230101T000000
END:STANDARD
END:VTIMEZONE
BEGIN:VTIMEZONE
TZID:America/Chicago
BEGIN:DAYLIGHT
TZOFFSETFROM:-0600
TZOFFSETTO:-0500
TZNAME:CDT
DTSTART:20230312T080000
END:DAYLIGHT
BEGIN:STANDARD
TZOFFSETFROM:-0500
TZOFFSETTO:-0600
TZNAME:CST
DTSTART:20231105T070000
END:STANDARD
BEGIN:DAYLIGHT
TZOFFSETFROM:-0600
TZOFFSETTO:-0500
TZNAME:CDT
DTSTART:20240310T080000
END:DAYLIGHT
BEGIN:STANDARD
TZOFFSETFROM:-0500
TZOFFSETTO:-0600
TZNAME:CST
DTSTART:20241103T070000
END:STANDARD
BEGIN:DAYLIGHT
TZOFFSETFROM:-0600
TZOFFSETTO:-0500
TZNAME:CDT
DTSTART:20250309T080000
END:DAYLIGHT
BEGIN:STANDARD
TZOFFSETFROM:-0500
TZOFFSETTO:-0600
TZNAME:CST
DTSTART:20251102T070000
END:STANDARD
END:VTIMEZONE
BEGIN:VEVENT
DTSTART;TZID=UTC:20240812T110000
DTEND;TZID=UTC:20240812T210000
DTSTAMP:20260424T221508
CREATED:20230729T030111Z
LAST-MODIFIED:20240723T001216Z
UID:808-1723460400-1723496400@bwepto.org
SUMMARY:SPIRIT NIGHT - Crust Pizza Co.
DESCRIPTION:Let Crust Pizza Co. do the cooking for your family! Come out and support Birnham Woods Elementary at Crust Pizza Co. off Rayford. Leave your receipt in the bin by the register and BWE PTO will receive a percentage of the total sales.
URL:https://bwepto.org/event/spirit-night-crust-pizza-co/
LOCATION:Crust Pizza Co.\, 3535 Rayford Road #600\, Spring\, TX\, 77386\, United States
CATEGORIES:All School Event,PTO Board Only,PTO Event,Spirit Night
END:VEVENT
BEGIN:VEVENT
DTSTART;VALUE=DATE:20240821
DTEND;VALUE=DATE:20240822
DTSTAMP:20260424T221508
CREATED:20240719T155910Z
LAST-MODIFIED:20240808T212049Z
UID:1366-1724198400-1724284799@bwepto.org
SUMMARY:Spirit Wear Pre-Sale Closes
DESCRIPTION:Sport your school spirit throughout the year. Buy this year’s spirit wear before the deadline! \nPURCHASE YOUR SPIRIT WEAR HERE
URL:https://bwepto.org/event/spirit-wear-pre-sale-closes/
LOCATION:Birnham Woods Elementary\, 31150 Birnham Woods\, Spring\, TX\, 77386\, United States
CATEGORIES:All School Event
END:VEVENT
BEGIN:VEVENT
DTSTART;VALUE=DATE:20240823
DTEND;VALUE=DATE:20240824
DTSTAMP:20260424T221508
CREATED:20240719T151417Z
LAST-MODIFIED:20240719T160307Z
UID:1330-1724371200-1724457599@bwepto.org
SUMMARY:Room Parent Applications Due
DESCRIPTION:In order to make BWE the Best Place to Be we need the help of our amazing parents. If you are interested in becoming a room parent for your child’s teacher\, please fill out the following application. All applications are due by August 23\, 2024.
URL:https://bwepto.org/event/room-parent-applications-due/
LOCATION:Birnham Woods Elementary\, 31150 Birnham Woods\, Spring\, TX\, 77386\, United States
CATEGORIES:All School Event
END:VEVENT
END:VCALENDAR