BEGIN:VCALENDAR
VERSION:2.0
PRODID:-//Birnham Woods Elementary PTO - ECPv6.15.16//NONSGML v1.0//EN
CALSCALE:GREGORIAN
METHOD:PUBLISH
X-ORIGINAL-URL:https://bwepto.org
X-WR-CALDESC:Events for Birnham Woods Elementary PTO
REFRESH-INTERVAL;VALUE=DURATION:PT1H
X-Robots-Tag:noindex
X-PUBLISHED-TTL:PT1H
BEGIN:VTIMEZONE
TZID:UTC
BEGIN:STANDARD
TZOFFSETFROM:+0000
TZOFFSETTO:+0000
TZNAME:UTC
DTSTART:20250101T000000
END:STANDARD
END:VTIMEZONE
BEGIN:VTIMEZONE
TZID:America/Chicago
BEGIN:DAYLIGHT
TZOFFSETFROM:-0600
TZOFFSETTO:-0500
TZNAME:CDT
DTSTART:20250309T080000
END:DAYLIGHT
BEGIN:STANDARD
TZOFFSETFROM:-0500
TZOFFSETTO:-0600
TZNAME:CST
DTSTART:20251102T070000
END:STANDARD
BEGIN:DAYLIGHT
TZOFFSETFROM:-0600
TZOFFSETTO:-0500
TZNAME:CDT
DTSTART:20260308T080000
END:DAYLIGHT
BEGIN:STANDARD
TZOFFSETFROM:-0500
TZOFFSETTO:-0600
TZNAME:CST
DTSTART:20261101T070000
END:STANDARD
BEGIN:DAYLIGHT
TZOFFSETFROM:-0600
TZOFFSETTO:-0500
TZNAME:CDT
DTSTART:20270314T080000
END:DAYLIGHT
BEGIN:STANDARD
TZOFFSETFROM:-0500
TZOFFSETTO:-0600
TZNAME:CST
DTSTART:20271107T070000
END:STANDARD
END:VTIMEZONE
BEGIN:VEVENT
DTSTART;VALUE=DATE:20260201
DTEND;VALUE=DATE:20260206
DTSTAMP:20260423T164740
CREATED:20230719T033403Z
LAST-MODIFIED:20250821T133946Z
UID:605-1769904000-1770335999@bwepto.org
SUMMARY:National School Counseling Week
DESCRIPTION:💙 Celebrating Our School Counselors! 💙 \nThis week\, let’s spread the love and appreciation to our amazing school counselors! 🌟We are especially thankful for Mrs. Baines and all the ways she supports our students every day. 🐾💛 \n✨ If you’d like to surprise her with a little extra joy\, you can check out her list of favorites for gift ideas throughout the week. 🎁💐
URL:https://bwepto.org/event/national-school-counseling-week/
LOCATION:Birnham Woods Elementary\, 31150 Birnham Woods\, Spring\, TX\, 77386\, United States
CATEGORIES:All School Event
ATTACH;FMTTYPE=image/png:https://bwepto.org/wp-content/uploads/2025/08/counselor.png
ORGANIZER;CN="Birnham Woods Elementary":MAILTO:birnhamwoods@conroeisd.net
END:VEVENT
BEGIN:VEVENT
DTSTART;TZID=UTC:20260206T180000
DTEND;TZID=UTC:20260206T200000
DTSTAMP:20260423T164740
CREATED:20230825T202135Z
LAST-MODIFIED:20260116T233726Z
UID:985-1770400800-1770408000@bwepto.org
SUMMARY:Father/Daughter Dance
DESCRIPTION:🎉 Get ready\, dads & daughters — it’s time to twist\, shout\, and sock-hop the night away! 🎉 \nDust off your poodle skirts\, slick back your hair\, lace up those saddle shoes\, and slide on into a night of retro fun at the Birnham Woods Elementary PTO’s Father-Daughter Sock Hop! \n🗓 Date: Friday\, February 6\, 2026🕕 Time: 6:00 PM – 8:00 PM📍 Place: Birnham Woods Elementary School \nJoin us in the school cafeteria  transformed into a neon-lit dance floor straight out of the 1950s! Here’s what’s in store: \n\n\nA DJ spinning classic rock-n-roll and timeless hits to keep you on your feet and sharing that special dance. \n\n\nFun photo ops in full poodle-skirt and fedora flair—don’t forget to strike a pose! \n\n\nLight bites\, punch\, and nostalgic treats to fuel the jive. \n\n\nA couple of surprise contests (most creative sock hops? best dad-daughter dance move?) with playful prizes. \n\n\nWhether you plan to sway slow to a sweet father-daughter ballad or jam to a high-energy jukebox favorite — this evening is all about making whimsical memories that’ll last long after the song ends. \n✨ Dress code (optional\, but encouraged):Think sock hop chic — poodle skirts\, bow ties\, leather jackets\, saddle shoes\, rolled-up jeans\, hair pomade—whatever helps you step back in time and step forward into fun together! \nLet’s make this night a big blast from the past for daughters of all ages and their favorite guys. Mark your calendars\, polish your dancing shoes\, and get ready to hop on the dance floor. \nSee you at the sock hop! 🎶👞👗 \nBUY YOUR TICKETS TODAY – EARLY BIRD PRICING AVAILABLE NOW
URL:https://bwepto.org/event/father-daughter-dance/
LOCATION:Birnham Woods Elementary\, 31150 Birnham Woods\, Spring\, TX\, 77386\, United States
CATEGORIES:All School Event,PTO Event
ATTACH;FMTTYPE=image/png:https://bwepto.org/wp-content/uploads/2026/01/sock-hop-2026.png
END:VEVENT
BEGIN:VEVENT
DTSTART;TZID=UTC:20260210T170000
DTEND;TZID=UTC:20260210T210000
DTSTAMP:20260423T164740
CREATED:20230803T013418Z
LAST-MODIFIED:20251216T032016Z
UID:855-1770742800-1770757200@bwepto.org
SUMMARY:Spirit Night - Spring Creek Barbeque
DESCRIPTION:🐮🔥 Yeehaw\, BWE! It’s Spirit Night at Spring Creek Barbeque! 🔥🐮 \nRound up the family and bring your appetite for a finger-lickin’ good time at Spring Creek Barbeque on Tuesday\, February 10\, 2026\, from 5:00–9:00 PM! \nEnjoy some seriously delicious BBQ while supporting the Birnham Woods Elementary PTO. Dine in and soak up that warm\, Texas-style hospitality or grab takeout to enjoy at home—either way\, when you tell them you’re with BWE PTO\, a portion of your meal will be donated back to our school. That’s what we call a win-win (or maybe a win-win-win with dessert 😉). \n🌟 Bonus BBQ Fun! 🌟We’ll also have a 2-pack of Spring Creek Barbeque sauces available for pre-order. Every box sold sends even more support directly back to BWE—perfect for your pantry or as a tasty gift! \n🏆 Class Competition Alert! 🏆The class with the largest attendance AND the most sauce sales will earn a special surprise—so rally your classmates\, teachers\, friends\, and families! \nCome hungry\, come happy\, and come ready to support BWE. We can’t wait to see you there! 🍗🎉 \n  \n 
URL:https://bwepto.org/event/spirit-night-spring-creek-barbeque/
LOCATION:Spring Creek BBQ\, 4083 Riley Fuzzel Rd\, Spring\, TX\, 77386\, United States
CATEGORIES:All School Event,PTO Event,Spirit Night
ATTACH;FMTTYPE=image/png:https://bwepto.org/wp-content/uploads/2025/12/SCB-Feb-2026.png
END:VEVENT
BEGIN:VEVENT
DTSTART;TZID=UTC:20260212T093000
DTEND;TZID=UTC:20260212T103000
DTSTAMP:20260423T164740
CREATED:20230719T033618Z
LAST-MODIFIED:20260201T172817Z
UID:610-1770888600-1770892200@bwepto.org
SUMMARY:PTO General Meeting - February
DESCRIPTION:🐾📅 Join the BWE PTO Meeting! 📅🐾 \nWant to get more involved at Birnham Woods Elementary? 💛✨Come join our monthly PTO meeting! \nWe’ll be:✔️ Reviewing recent event successes 🎉✔️ Planning exciting upcoming events 📚🌟✔️ Asking for volunteers to help make it all happen 🙌 \nYour voice and support make a big difference — we’d love to see you there! 💐
URL:https://bwepto.org/event/pto-general-meeting-february/
LOCATION:The Falls at Imperial Oaks Clubhouse\, 31220 Birnham Woods\, Spring\, TX\, 77386\, United States
CATEGORIES:PTO Event
ATTACH;FMTTYPE=image/png:https://bwepto.org/wp-content/uploads/2025/08/february-pto-meeting.png.png
END:VEVENT
BEGIN:VEVENT
DTSTART;VALUE=DATE:20260213
DTEND;VALUE=DATE:20260214
DTSTAMP:20260423T164740
CREATED:20230719T035336Z
LAST-MODIFIED:20250821T140222Z
UID:638-1770940800-1771027199@bwepto.org
SUMMARY:Staff Development Day - No School
DESCRIPTION:🎉🐾 No School for Our Bulldogs! 🐾🎉 \nTake this time to relax\, recharge\, and have some fun. 💛📚 \nWe’ll see you back at school\, ready for more learning and adventures! ✨✏️
URL:https://bwepto.org/event/staff-development-day-no-school/
LOCATION:Birnham Woods Elementary\, 31150 Birnham Woods\, Spring\, TX\, 77386\, United States
CATEGORIES:School Holiday
ATTACH;FMTTYPE=image/png:https://bwepto.org/wp-content/uploads/2025/08/staff-development.png
ORGANIZER;CN="Birnham Woods Elementary":MAILTO:birnhamwoods@conroeisd.net
END:VEVENT
BEGIN:VEVENT
DTSTART;VALUE=DATE:20260216
DTEND;VALUE=DATE:20260217
DTSTAMP:20260423T164740
CREATED:20230719T034213Z
LAST-MODIFIED:20250610T193216Z
UID:619-1771200000-1771286399@bwepto.org
SUMMARY:No School for Students
DESCRIPTION:
URL:https://bwepto.org/event/inclement-weather-day-no-school-for-students/
LOCATION:Birnham Woods Elementary\, 31150 Birnham Woods\, Spring\, TX\, 77386\, United States
CATEGORIES:All School Event
ATTACH;FMTTYPE=image/jpeg:https://bwepto.org/wp-content/uploads/2023/07/no-school.jpg
ORGANIZER;CN="Birnham Woods Elementary":MAILTO:birnhamwoods@conroeisd.net
END:VEVENT
BEGIN:VEVENT
DTSTART;VALUE=DATE:20260217
DTEND;VALUE=DATE:20260218
DTSTAMP:20260423T164740
CREATED:20230719T034500Z
LAST-MODIFIED:20250821T134731Z
UID:622-1771286400-1771372799@bwepto.org
SUMMARY:National Random Acts of Kindness Day
DESCRIPTION:💛🌟 National Random Acts of Kindness Day! 🌟💛 \nToday’s the perfect day to make the world a little brighter! ✨Hold the door for someone 🚪\, write a kind note to a friend 💌\, or surprise someone with a coffee ☕. \nNo matter how big or small\, your kindness makes a difference.Let’s get out there and spread joy together\, BWE! 🐾💐
URL:https://bwepto.org/event/national-random-acts-of-kindness-day/
LOCATION:TX
CATEGORIES:External School Event
ATTACH;FMTTYPE=image/png:https://bwepto.org/wp-content/uploads/2025/08/kindness.png
END:VEVENT
BEGIN:VEVENT
DTSTART;TZID=UTC:20260305T093000
DTEND;TZID=UTC:20260305T103000
DTSTAMP:20260423T164740
CREATED:20230719T035455Z
LAST-MODIFIED:20250821T143812Z
UID:640-1772703000-1772706600@bwepto.org
SUMMARY:PTO General Meeting – March
DESCRIPTION:🐾📅 Join the BWE PTO Meeting! 📅🐾 \nWant to get more involved at Birnham Woods Elementary? 💛✨Come join our monthly PTO meeting! \nWe’ll be:✔️ Reviewing recent event successes 🎉✔️ Planning exciting upcoming events 📚🌟✔️ Asking for volunteers to help make it all happen 🙌 \nYour voice and support make a big difference — we’d love to see you there! 💐
URL:https://bwepto.org/event/pto-general-meeting-march/
LOCATION:The Falls at Imperial Oaks Clubhouse\, 31220 Birnham Woods\, Spring\, TX\, 77386\, United States
CATEGORIES:PTO Event
ATTACH;FMTTYPE=image/png:https://bwepto.org/wp-content/uploads/2025/08/March.png
END:VEVENT
BEGIN:VEVENT
DTSTART;VALUE=DATE:20260306
DTEND;VALUE=DATE:20260307
DTSTAMP:20260423T164740
CREATED:20230719T035644Z
LAST-MODIFIED:20250821T134306Z
UID:643-1772755200-1772841599@bwepto.org
SUMMARY:End of 3rd 9 Weeks Grading Period
DESCRIPTION:📚✨ That’s a Wrap! ✨📚 \nThe grading period has officially come to an end! 🎉Thank you to our hardworking students\, dedicated teachers\, and supportive families for making this a great chapter at BWE. 🐾💛 \nStay tuned for report cards and let’s get ready for another awesome quarter of learning and growing together! 🌟
URL:https://bwepto.org/event/end-of-3rd-9-weeks-grading-period/
LOCATION:Birnham Woods Elementary\, 31150 Birnham Woods\, Spring\, TX\, 77386\, United States
CATEGORIES:All School Event
ATTACH;FMTTYPE=image/png:https://bwepto.org/wp-content/uploads/2025/08/grading-period-ends.png
ORGANIZER;CN="Birnham Woods Elementary":MAILTO:birnhamwoods@conroeisd.net
END:VEVENT
BEGIN:VEVENT
DTSTART;VALUE=DATE:20260309
DTEND;VALUE=DATE:20260314
DTSTAMP:20260423T164740
CREATED:20230719T040131Z
LAST-MODIFIED:20250821T141458Z
UID:651-1773014400-1773446399@bwepto.org
SUMMARY:Spring Break
DESCRIPTION:🌸🐾 Happy Spring Break\, Bulldogs! 🐾🌸 \nEnjoy your week off of school\, Bulldogs! 💛📚Take time to relax\, recharge\, and have lots of fun in the sun. ☀️🌴🌼 \nWe can’t wait to see you back\, ready for more learning and adventures! 🎉✨
URL:https://bwepto.org/event/spring-break/
LOCATION:Birnham Woods Elementary\, 31150 Birnham Woods\, Spring\, TX\, 77386\, United States
CATEGORIES:School Holiday
ATTACH;FMTTYPE=image/png:https://bwepto.org/wp-content/uploads/2025/08/spring-break.png.png
ORGANIZER;CN="Birnham Woods Elementary":MAILTO:birnhamwoods@conroeisd.net
END:VEVENT
BEGIN:VEVENT
DTSTART;TZID=America/Chicago:20260321T150000
DTEND;TZID=America/Chicago:20260321T180000
DTSTAMP:20260423T164740
CREATED:20250128T160151Z
LAST-MODIFIED:20260215T233002Z
UID:1820-1774105200-1774116000@bwepto.org
SUMMARY:BWE Spring Carnival
DESCRIPTION:🎉🎪 Step Right Up to the BWE Spring Carnival! 🎪🎉 \nCome one\, come all and join the fun at the BWE Spring Carnival on March 21st from 3–6 PM at Birnham Woods Elementary! 🌸 \nGet ready for an afternoon packed with exciting games\, awesome prizes\, live entertainers\, a classic cake walk\, and plenty of activities to keep kids smiling from start to finish. It’s the perfect way to celebrate spring with friends\, family\, and our school community! \n🎟️ Tickets & Pricing \nCarnival wristbands: $15 per child (ages 3–18) \n⚠️ Price goes up to $18 starting Friday morning\, March 20th — grab them early! \nCake Walk Tickets: \n\n$1 per ticket\n$5 for 6 tickets\n$10 for 12 tickets 🍰\n\n✨ Don’t miss out on the laughter\, treats\, and carnival magic — PURCHASE YOUR TICKETS TODAY and we’ll see you under the big top! 🎈🎠
URL:https://bwepto.org/event/bwe-spring-carnival/
LOCATION:Birnham Woods Elementary\, 31150 Birnham Woods\, Spring\, TX\, 77386\, United States
CATEGORIES:All School Event
ATTACH;FMTTYPE=image/png:https://bwepto.org/wp-content/uploads/2026/02/spring-carnival-1080-x-1080-px.png
END:VEVENT
BEGIN:VEVENT
DTSTART;VALUE=DATE:20260330
DTEND;VALUE=DATE:20260404
DTSTAMP:20260423T164740
CREATED:20250610T195947Z
LAST-MODIFIED:20260319T222839Z
UID:2049-1774828800-1775260799@bwepto.org
SUMMARY:Marcos Spirit Night
DESCRIPTION:🍕✨ PIZZA + ART = THE PERFECT NIGHT OUT! ✨🍕 \nLove pizza? Want to support BWE? We’ve got a deliciously fun way to do both! \n🎨 Each student will decorate their very own pizza box in art class\n🍕 Order from Marco’s… and your pizza will arrive in your child’s custom masterpiece box! \nYes—your dinner becomes a keepsake 💛 \n📦 HOW IT WORKS:\nWhen ordering\, simply provide:\n• Your student’s first & last name\n• Grade level\n• Teacher’s name \nYour pizza will be packaged in your child’s one-of-a-kind box for pickup or delivery! \n💻 Ordering online?\nUse code BWE and include your student’s name + teacher in the order notes. \n👨‍👩‍👧‍👦 Bonus: Marco’s can combine sibling orders so everything arrives together on one assigned day! \n📅 ORDER SCHEDULE:\nMonday\, March 30 – LS\, PK\, K\nTuesday\, March 31 – 1st Grade\nWednesday\, April 1 – 2nd Grade\nThursday\, April 2 – 3rd Grade\nFriday\, April 3 – 4th Grade \nBring home pizza\, support our school\, and enjoy a box full of creativity! 🎉🍕
URL:https://bwepto.org/event/marcos-spirit-night/
LOCATION:Marco’s Pizza\, 3431 Rayford Road\, Spring\, TX\, 77386\, United States
CATEGORIES:All School Event,Spirit Night
ATTACH;FMTTYPE=image/png:https://bwepto.org/wp-content/uploads/2026/03/spirit-week.png
END:VEVENT
BEGIN:VEVENT
DTSTART;VALUE=DATE:20260401
DTEND;VALUE=DATE:20260402
DTSTAMP:20260423T164740
CREATED:20230719T041143Z
LAST-MODIFIED:20250821T140628Z
UID:667-1775001600-1775087999@bwepto.org
SUMMARY:Paraprofessional Appreciation Day
DESCRIPTION:🌟🐾 Paraprofessional Appreciation! 🐾🌟 \nLet’s spread the love and appreciation to all of our hardworking paraprofessionals! 💛They go above and beyond each day to support our students\, staff\, and families — and we are so grateful. ✨📚 \nThank you for everything you do to help our Bulldogs shine! 🎉👏
URL:https://bwepto.org/event/paraprofessional-appreciation-day/
LOCATION:Birnham Woods Elementary\, 31150 Birnham Woods\, Spring\, TX\, 77386\, United States
CATEGORIES:All School Event
ATTACH;FMTTYPE=image/png:https://bwepto.org/wp-content/uploads/2025/08/para.png
ORGANIZER;CN="Birnham Woods Elementary":MAILTO:birnhamwoods@conroeisd.net
END:VEVENT
BEGIN:VEVENT
DTSTART;VALUE=DATE:20260403
DTEND;VALUE=DATE:20260404
DTSTAMP:20260423T164740
CREATED:20240719T153119Z
LAST-MODIFIED:20250821T135829Z
UID:1350-1775174400-1775260799@bwepto.org
SUMMARY:School Holiday - No School
DESCRIPTION:🎉🐾 No School for Our Bulldogs! 🐾🎉 \nEnjoy the extra-long weekend\, Bulldogs! 🌟Take this time to relax\, recharge\, and have some fun. 💛📚 \nWe’ll see you back at school\, ready for more learning and adventures! ✨✏️
URL:https://bwepto.org/event/school-holiday-no-school/
LOCATION:Birnham Woods Elementary\, 31150 Birnham Woods\, Spring\, TX\, 77386\, United States
CATEGORIES:All School Event
ATTACH;FMTTYPE=image/png:https://bwepto.org/wp-content/uploads/2025/08/no-school-generic.png
ORGANIZER;CN="Birnham Woods Elementary":MAILTO:birnhamwoods@conroeisd.net
END:VEVENT
BEGIN:VEVENT
DTSTART;VALUE=DATE:20260404
DTEND;VALUE=DATE:20260405
DTSTAMP:20260423T164740
CREATED:20230719T041317Z
LAST-MODIFIED:20250821T135253Z
UID:670-1775260800-1775347199@bwepto.org
SUMMARY:School Librarian Day
DESCRIPTION:📚💛 We Love Our Librarian! 💛📚 \nWhere would we be without books? 🌟We are so lucky to have Mrs. Dunn\, who fills our library with stories\, knowledge\, and adventures every day! 🐾✨ \nDrop by the library this week to show your love and appreciation for all she does to make BWE the best place to be! 🎉📖
URL:https://bwepto.org/event/school-librarian-day/
LOCATION:Birnham Woods Elementary\, 31150 Birnham Woods\, Spring\, TX\, 77386\, United States
CATEGORIES:All School Event
ATTACH;FMTTYPE=image/png:https://bwepto.org/wp-content/uploads/2025/08/librarian.png
ORGANIZER;CN="Birnham Woods Elementary":MAILTO:birnhamwoods@conroeisd.net
END:VEVENT
BEGIN:VEVENT
DTSTART;VALUE=DATE:20260406
DTEND;VALUE=DATE:20260407
DTSTAMP:20260423T164740
CREATED:20230719T042652Z
LAST-MODIFIED:20250821T140132Z
UID:680-1775433600-1775519999@bwepto.org
SUMMARY:Staff Development Day - No School
DESCRIPTION:🎉🐾 No School for Our Bulldogs! 🐾🎉 \nTake this time to relax\, recharge\, and have some fun. 💛📚 \nWe’ll see you back at school\, ready for more learning and adventures! ✨✏️
URL:https://bwepto.org/event/staff-development-day-no-school-2/
LOCATION:Birnham Woods Elementary\, 31150 Birnham Woods\, Spring\, TX\, 77386\, United States
CATEGORIES:School Holiday
ATTACH;FMTTYPE=image/png:https://bwepto.org/wp-content/uploads/2025/08/staff-development.png
ORGANIZER;CN="Birnham Woods Elementary":MAILTO:birnhamwoods@conroeisd.net
END:VEVENT
BEGIN:VEVENT
DTSTART;VALUE=DATE:20260406
DTEND;VALUE=DATE:20260411
DTSTAMP:20260423T164740
CREATED:20230719T042136Z
LAST-MODIFIED:20250821T133350Z
UID:672-1775433600-1775865599@bwepto.org
SUMMARY:National Assistant Principal Week
DESCRIPTION:🎉 A Big Bulldog THANK YOU! 🎉 \nWe want to give a giant shout-out to Mrs. Bleecker and Mrs. Davidson – our amazing Vice Principals! 🐾💛We appreciate everything you do for our students\, staff\, and families! \n💐✨ If you’d like to help us shower them with love (and maybe a few fun surprises 🎁) throughout the week\, check out their list of favorites!
URL:https://bwepto.org/event/national-assistant-principal-week/
LOCATION:Birnham Woods Elementary\, 31150 Birnham Woods\, Spring\, TX\, 77386\, United States
CATEGORIES:All School Event
ATTACH;FMTTYPE=image/png:https://bwepto.org/wp-content/uploads/2025/08/assistant-principal.png
ORGANIZER;CN="Birnham Woods Elementary":MAILTO:birnhamwoods@conroeisd.net
END:VEVENT
BEGIN:VEVENT
DTSTART;TZID=UTC:20260409T093000
DTEND;TZID=UTC:20260409T103000
DTSTAMP:20260423T164740
CREATED:20230719T042324Z
LAST-MODIFIED:20250821T143847Z
UID:675-1775727000-1775730600@bwepto.org
SUMMARY:PTO General Meeting – April
DESCRIPTION:🐾📅 Join the BWE PTO Meeting! 📅🐾 \nWant to get more involved at Birnham Woods Elementary? 💛✨Come join our monthly PTO meeting! \nWe’ll be:✔️ Reviewing recent event successes 🎉✔️ Planning exciting upcoming events 📚🌟✔️ Asking for volunteers to help make it all happen 🙌 \nYour voice and support make a big difference — we’d love to see you there! 💐
URL:https://bwepto.org/event/pto-general-meeting-april/
LOCATION:The Falls at Imperial Oaks Clubhouse\, 31220 Birnham Woods\, Spring\, TX\, 77386\, United States
CATEGORIES:PTO Event
ATTACH;FMTTYPE=image/png:https://bwepto.org/wp-content/uploads/2025/08/APril.png
END:VEVENT
BEGIN:VEVENT
DTSTART;VALUE=DATE:20260419
DTEND;VALUE=DATE:20260426
DTSTAMP:20260423T164740
CREATED:20230719T042541Z
LAST-MODIFIED:20250821T142133Z
UID:677-1776556800-1777161599@bwepto.org
SUMMARY:National Volunteer Recognition Week
DESCRIPTION:🌟💛 Thank You\, Volunteers! 💛🌟 \nWe LOVE all of our amazing volunteers! 🐾✨Your time\, energy\, and dedication help make BWE the best place to be. 📚🎉 \nFrom big events to everyday helping hands\, we couldn’t do it without you.💐 THANK YOU\, VOLUNTEERS! 💐
URL:https://bwepto.org/event/national-volunteer-recognition-week/
LOCATION:Birnham Woods Elementary\, 31150 Birnham Woods\, Spring\, TX\, 77386\, United States
CATEGORIES:All School Event
ATTACH;FMTTYPE=image/png:https://bwepto.org/wp-content/uploads/2025/08/volunteer-recognition.png
ORGANIZER;CN="Birnham Woods Elementary":MAILTO:birnhamwoods@conroeisd.net
END:VEVENT
BEGIN:VEVENT
DTSTART;VALUE=DATE:20260422
DTEND;VALUE=DATE:20260423
DTSTAMP:20260423T164740
CREATED:20230719T042947Z
LAST-MODIFIED:20250821T133526Z
UID:682-1776816000-1776902399@bwepto.org
SUMMARY:National Administrative Professionals Day
DESCRIPTION:🎉 Thank You\, BWE Administrators! 🎉 \nWe are so grateful for our incredible school administrators! 🐾💛Your dedication\, hard work\, and big hearts make Birnham Woods Elementary the very best place to be! 🌟📚 \n💐✨ Thank you for all you do for our students\, staff\, and families each and every day!
URL:https://bwepto.org/event/national-administrative-professionals-day/
LOCATION:Birnham Woods Elementary\, 31150 Birnham Woods\, Spring\, TX\, 77386\, United States
CATEGORIES:All School Event
ATTACH;FMTTYPE=image/png:https://bwepto.org/wp-content/uploads/2025/08/admin.png
ORGANIZER;CN="Birnham Woods Elementary":MAILTO:birnhamwoods@conroeisd.net
END:VEVENT
BEGIN:VEVENT
DTSTART;VALUE=DATE:20260428
DTEND;VALUE=DATE:20260429
DTSTAMP:20260423T164740
CREATED:20230719T035051Z
LAST-MODIFIED:20250821T141048Z
UID:629-1777334400-1777420799@bwepto.org
SUMMARY:National School Bus Driver Day
DESCRIPTION:🚌💛 Thank You\, Bus Drivers! 💛🚌 \nA big Bulldog THANK YOU to our amazing bus drivers! 🐾We appreciate the extra mile you go every single day to make sure our students travel safely to and from school. 🚦✨ \nYour hard work\, patience\, and care do not go unnoticed — we are so grateful for you! 🎉👏
URL:https://bwepto.org/event/national-school-bus-driver-day/
LOCATION:Birnham Woods Elementary\, 31150 Birnham Woods\, Spring\, TX\, 77386\, United States
CATEGORIES:All School Event
ATTACH;FMTTYPE=image/png:https://bwepto.org/wp-content/uploads/2025/08/school-bus-driver-day.png
ORGANIZER;CN="Birnham Woods Elementary":MAILTO:birnhamwoods@conroeisd.net
END:VEVENT
BEGIN:VEVENT
DTSTART;VALUE=DATE:20260501
DTEND;VALUE=DATE:20260502
DTSTAMP:20260423T164740
CREATED:20230719T043427Z
LAST-MODIFIED:20250821T140751Z
UID:687-1777593600-1777679999@bwepto.org
SUMMARY:National Principals Day
DESCRIPTION:🎉🐾 Thank You\, BWE Leaders! 🐾🎉 \nA big Bulldog THANK YOU to Dr. Barnes\, Mrs. Davidson\, and Mrs. Bleecker! 💛We appreciate all the dedication\, care\, and hard work you put into making Birnham Woods Elementary the very best place to be! 🌟📚 \nYour Bulldogs are grateful for you every single day! 🎈👏
URL:https://bwepto.org/event/national-principals-day/
LOCATION:Birnham Woods Elementary\, 31150 Birnham Woods\, Spring\, TX\, 77386\, United States
CATEGORIES:All School Event
ATTACH;FMTTYPE=image/png:https://bwepto.org/wp-content/uploads/2025/08/principal.png
ORGANIZER;CN="Birnham Woods Elementary":MAILTO:birnhamwoods@conroeisd.net
END:VEVENT
BEGIN:VEVENT
DTSTART;VALUE=DATE:20260501
DTEND;VALUE=DATE:20260502
DTSTAMP:20260423T164740
CREATED:20230719T061318Z
LAST-MODIFIED:20250610T191325Z
UID:690-1777593600-1777679999@bwepto.org
SUMMARY:School Lunch Hero Day
DESCRIPTION:Thank you to all of our lunch staff for keeping our bellies full and happy throughout the year!
URL:https://bwepto.org/event/school-lunch-hero-day/
LOCATION:Birnham Woods Elementary\, 31150 Birnham Woods\, Spring\, TX\, 77386\, United States
CATEGORIES:All School Event
ATTACH;FMTTYPE=image/png:https://bwepto.org/wp-content/uploads/2023/07/school-lunch-hero-day.png
ORGANIZER;CN="Birnham Woods Elementary":MAILTO:birnhamwoods@conroeisd.net
END:VEVENT
BEGIN:VEVENT
DTSTART;VALUE=DATE:20260504
DTEND;VALUE=DATE:20260509
DTSTAMP:20260423T164740
CREATED:20230719T061742Z
LAST-MODIFIED:20250821T141628Z
UID:695-1777852800-1778284799@bwepto.org
SUMMARY:Teacher Appreciation Week
DESCRIPTION:🍎💛 We LOVE Our Teachers! 💛🍎 \nThis week is all about celebrating our amazing teachers! 🌟🐾Let’s shower them with love and appreciation for everything they do to make BWE the best place to be. ✨ \n📅 A list of daily activities will be shared by room parents — join in one day or every day\, it’s up to you! 🎉🎁 Want to find the perfect gift? Check out your teacher’s list of favorites below. \n👉 [VIEW YOUR TEACHER’S FAVORITE LIST] 👈
URL:https://bwepto.org/event/teacher-appreciation-week/
LOCATION:Birnham Woods Elementary\, 31150 Birnham Woods\, Spring\, TX\, 77386\, United States
CATEGORIES:All School Event
ATTACH;FMTTYPE=image/png:https://bwepto.org/wp-content/uploads/2025/08/teacher-appreciation-week.png
ORGANIZER;CN="Birnham Woods Elementary":MAILTO:birnhamwoods@conroeisd.net
END:VEVENT
BEGIN:VEVENT
DTSTART;VALUE=DATE:20260506
DTEND;VALUE=DATE:20260507
DTSTAMP:20260423T164740
CREATED:20230719T062439Z
LAST-MODIFIED:20250821T140456Z
UID:704-1778025600-1778111999@bwepto.org
SUMMARY:National School Nurse Day
DESCRIPTION:💙🏥 We Love Our Clinic Team! 🏥💙 \nLet’s show appreciation for the ones who help keep us healthy every day! 🌟We are so thankful for our clinic staff as they care for our Bulldogs with kindness and dedication. 🐾💛 \n✨ Stop by the clinic to drop off a note of encouragement 💌 or a small gift 🎁 to show how much they mean to our school family!
URL:https://bwepto.org/event/national-school-nurse-day/
LOCATION:Birnham Woods Elementary\, 31150 Birnham Woods\, Spring\, TX\, 77386\, United States
CATEGORIES:All School Event
ATTACH;FMTTYPE=image/png:https://bwepto.org/wp-content/uploads/2025/08/nurse-.png
ORGANIZER;CN="Birnham Woods Elementary":MAILTO:birnhamwoods@conroeisd.net
END:VEVENT
BEGIN:VEVENT
DTSTART;TZID=UTC:20260507T093000
DTEND;TZID=UTC:20260507T103000
DTSTAMP:20260423T164740
CREATED:20230719T062100Z
LAST-MODIFIED:20250821T143928Z
UID:702-1778146200-1778149800@bwepto.org
SUMMARY:PTO General Meeting – May
DESCRIPTION:🐾📅 Join the BWE PTO Meeting! 📅🐾 \nWant to get more involved at Birnham Woods Elementary? 💛✨Come join our monthly PTO meeting! \nWe’ll be:✔️ Reviewing recent event successes 🎉✔️ Planning exciting upcoming events 📚🌟✔️ Asking for volunteers to help make it all happen 🙌 \nYour voice and support make a big difference — we’d love to see you there! 💐
URL:https://bwepto.org/event/pto-general-meeting-may/
LOCATION:The Falls at Imperial Oaks Clubhouse\, 31220 Birnham Woods\, Spring\, TX\, 77386\, United States
CATEGORIES:PTO Event
ATTACH;FMTTYPE=image/png:https://bwepto.org/wp-content/uploads/2025/08/may.png
END:VEVENT
BEGIN:VEVENT
DTSTART;VALUE=DATE:20260518
DTEND;VALUE=DATE:20260519
DTSTAMP:20260423T164740
CREATED:20230719T062725Z
LAST-MODIFIED:20250821T135603Z
UID:707-1779062400-1779148799@bwepto.org
SUMMARY:National Speech Pathologist Day
DESCRIPTION:🗣️💛 We Appreciate Our Speech Pathologists! 💛🗣️ \nThis week\, let’s celebrate our amazing speech pathologists who work so hard to support and encourage our students every day! 🌟🐾 \nFeel free to write them a sweet note of thanks ✍️💌 or surprise them with a small gift 🎁.Need ideas? You can check out their list of favorites! 💐✨
URL:https://bwepto.org/event/national-speech-pathologist-day/
LOCATION:Birnham Woods Elementary\, 31150 Birnham Woods\, Spring\, TX\, 77386\, United States
CATEGORIES:All School Event
ATTACH;FMTTYPE=image/png:https://bwepto.org/wp-content/uploads/2025/08/National-speech-pathologist-day.png.png
ORGANIZER;CN="Birnham Woods Elementary":MAILTO:birnhamwoods@conroeisd.net
END:VEVENT
BEGIN:VEVENT
DTSTART;TZID=UTC:20260522T121000
DTEND;TZID=UTC:20260522T121000
DTSTAMP:20260423T164740
CREATED:20230719T064104Z
LAST-MODIFIED:20250821T135040Z
UID:722-1779451800-1779451800@bwepto.org
SUMMARY:Last Day of School!
DESCRIPTION:🎉🐾 Congratulations\, Bulldogs! 🐾🎉 \nWay to go\, Bulldogs — what an amazing 2025–2026 school year it has been! 💛📚We are so proud of all your hard work\, dedication\, and achievements. 🌟 \n✨ Don’t forget: Early dismissal is at 12:10 p.m. so you can get a jump start on summer fun! 🌞🍉 \nHave a safe\, happy\, and unforgettable summer break — we’ll see you soon! 🎈🎶
URL:https://bwepto.org/event/last-day-of-school/
LOCATION:Birnham Woods Elementary\, 31150 Birnham Woods\, Spring\, TX\, 77386\, United States
CATEGORIES:All School Event
ATTACH;FMTTYPE=image/png:https://bwepto.org/wp-content/uploads/2025/08/last-day-of-school.png
ORGANIZER;CN="Birnham Woods Elementary":MAILTO:birnhamwoods@conroeisd.net
END:VEVENT
END:VCALENDAR