BEGIN:VCALENDAR
VERSION:2.0
PRODID:-//Birnham Woods Elementary PTO - ECPv6.15.16//NONSGML v1.0//EN
CALSCALE:GREGORIAN
METHOD:PUBLISH
X-ORIGINAL-URL:https://bwepto.org
X-WR-CALDESC:Events for Birnham Woods Elementary PTO
REFRESH-INTERVAL;VALUE=DURATION:PT1H
X-Robots-Tag:noindex
X-PUBLISHED-TTL:PT1H
BEGIN:VTIMEZONE
TZID:UTC
BEGIN:STANDARD
TZOFFSETFROM:+0000
TZOFFSETTO:+0000
TZNAME:UTC
DTSTART:20240101T000000
END:STANDARD
END:VTIMEZONE
BEGIN:VEVENT
DTSTART;VALUE=DATE:20250901
DTEND;VALUE=DATE:20250902
DTSTAMP:20260424T042339
CREATED:20230716T233126Z
LAST-MODIFIED:20250821T134903Z
UID:469-1756684800-1756771199@bwepto.org
SUMMARY:Labor Day Holiday - No School
DESCRIPTION:✨ Happy Labor Day! ✨ \nWishing all of our BWE families a safe and relaxing Labor Day! 💛🐾Thank you to our staff\, families\, and community for all the hard work you do to make our school such a special place. 🌟 \nEnjoy the long weekend — you’ve earned it! 🎉
URL:https://bwepto.org/event/labor-day-holiday-no-school/
LOCATION:Birnham Woods Elementary\, 31150 Birnham Woods\, Spring\, TX\, 77386\, United States
CATEGORIES:School Holiday
ATTACH;FMTTYPE=image/png:https://bwepto.org/wp-content/uploads/2025/08/labor-day.png
ORGANIZER;CN="Birnham Woods Elementary":MAILTO:birnhamwoods@conroeisd.net
END:VEVENT
END:VCALENDAR