BEGIN:VCALENDAR
VERSION:2.0
PRODID:-//Birnham Woods Elementary PTO - ECPv6.15.16//NONSGML v1.0//EN
CALSCALE:GREGORIAN
METHOD:PUBLISH
X-WR-CALNAME:Birnham Woods Elementary PTO
X-ORIGINAL-URL:https://bwepto.org
X-WR-CALDESC:Events for Birnham Woods Elementary PTO
REFRESH-INTERVAL;VALUE=DURATION:PT1H
X-Robots-Tag:noindex
X-PUBLISHED-TTL:PT1H
BEGIN:VTIMEZONE
TZID:UTC
BEGIN:STANDARD
TZOFFSETFROM:+0000
TZOFFSETTO:+0000
TZNAME:UTC
DTSTART:20220101T000000
END:STANDARD
END:VTIMEZONE
BEGIN:VTIMEZONE
TZID:America/Chicago
BEGIN:DAYLIGHT
TZOFFSETFROM:-0600
TZOFFSETTO:-0500
TZNAME:CDT
DTSTART:20220313T080000
END:DAYLIGHT
BEGIN:STANDARD
TZOFFSETFROM:-0500
TZOFFSETTO:-0600
TZNAME:CST
DTSTART:20221106T070000
END:STANDARD
BEGIN:DAYLIGHT
TZOFFSETFROM:-0600
TZOFFSETTO:-0500
TZNAME:CDT
DTSTART:20230312T080000
END:DAYLIGHT
BEGIN:STANDARD
TZOFFSETFROM:-0500
TZOFFSETTO:-0600
TZNAME:CST
DTSTART:20231105T070000
END:STANDARD
BEGIN:DAYLIGHT
TZOFFSETFROM:-0600
TZOFFSETTO:-0500
TZNAME:CDT
DTSTART:20240310T080000
END:DAYLIGHT
BEGIN:STANDARD
TZOFFSETFROM:-0500
TZOFFSETTO:-0600
TZNAME:CST
DTSTART:20241103T070000
END:STANDARD
BEGIN:DAYLIGHT
TZOFFSETFROM:-0600
TZOFFSETTO:-0500
TZNAME:CDT
DTSTART:20250309T080000
END:DAYLIGHT
BEGIN:STANDARD
TZOFFSETFROM:-0500
TZOFFSETTO:-0600
TZNAME:CST
DTSTART:20251102T070000
END:STANDARD
BEGIN:DAYLIGHT
TZOFFSETFROM:-0600
TZOFFSETTO:-0500
TZNAME:CDT
DTSTART:20260308T080000
END:DAYLIGHT
BEGIN:STANDARD
TZOFFSETFROM:-0500
TZOFFSETTO:-0600
TZNAME:CST
DTSTART:20261101T070000
END:STANDARD
END:VTIMEZONE
BEGIN:VEVENT
DTSTART;TZID=UTC:20251028T060000
DTEND;TZID=UTC:20251028T220000
DTSTAMP:20260423T150747
CREATED:20230825T201734Z
LAST-MODIFIED:20250817T202305Z
UID:983-1761631200-1761688800@bwepto.org
SUMMARY:Chick-Fil-A
DESCRIPTION:🐄🎉 Moooove On Over to Chick-fil-A for BWE Spirit Day! 🎉🐄 \nSkip the kitchen and swing by Chick-fil-A ANYTIME today — breakfast\, lunch\, or dinner! 🍗🍟🥤 \nJust use the code BIRNHAM at checkout\, and a portion of your purchase will go straight to Birnham Woods Elementary! 💙📚 \nWhether you’re grabbing a bite between practices or treating the family to a night off from cooking\, you’re helping our school just by eating delicious food! 🙌 \n📅 All day long — every meal counts! Let’s make it a moo-velous day for BWE! 🐔🎈
URL:https://bwepto.org/event/chick-fil-a/
LOCATION:Chick-Fil-A\, 3195 Riley Fuzzel Rd\, Spring\, TX\, 77386\, United States
CATEGORIES:PTO Event,Spirit Night
ATTACH;FMTTYPE=image/png:https://bwepto.org/wp-content/uploads/2025/06/chickfila.png
END:VEVENT
BEGIN:VEVENT
DTSTART;TZID=UTC:20251024T180000
DTEND;TZID=UTC:20251024T200000
DTSTAMP:20260423T150747
CREATED:20230717T010551Z
LAST-MODIFIED:20250929T165453Z
UID:512-1761328800-1761336000@bwepto.org
SUMMARY:Trunk or Treat
DESCRIPTION:🎃👻 Trunk or Treat at BWE! 👻🎃 \nIt’s time for one of our favorite fall traditions — Trunk or Treat! 🐾🍬Take a tour through the parking lot\, grab your favorite Halloween costume\, and go trick-or-treating for candy and goodies. 🌟 \nOur BWE parents always bring the fun with their fantastic trunk décor — you won’t want to miss it! 🕷️🕸️ \nWant to join the fun?👉 SIGN UP TO HOST A TRUNK 👈 \n \nTHANK YOU TO OUR SPONSOR
URL:https://bwepto.org/event/trunk-or-treat/
LOCATION:Birnham Woods Elementary\, 31150 Birnham Woods\, Spring\, TX\, 77386\, United States
CATEGORIES:All School Event,PTO Event
ATTACH;FMTTYPE=image/jpeg:https://bwepto.org/wp-content/uploads/2025/09/IMG_9795.jpeg
END:VEVENT
BEGIN:VEVENT
DTSTART;TZID=UTC:20251009T093000
DTEND;TZID=UTC:20251009T233000
DTSTAMP:20260423T150747
CREATED:20230717T002745Z
LAST-MODIFIED:20251008T224845Z
UID:493-1760002200-1760052600@bwepto.org
SUMMARY:PTO General Meeting – October
DESCRIPTION:🐾📅 Join the BWE PTO Meeting! 📅🐾 \nWant to get more involved at Birnham Woods Elementary? 💛✨Come join our monthly PTO meeting! \nWe’ll be:✔️ Reviewing recent event successes 🎉✔️ Planning exciting upcoming events 📚🌟✔️ Asking for volunteers to help make it all happen 🙌 \nYour voice and support make a big difference — we’d love to see you there! 💐
URL:https://bwepto.org/event/pto-general-meeting-october/
LOCATION:Birnham Woods Elementary\, 31150 Birnham Woods\, Spring\, TX\, 77386\, United States
CATEGORIES:PTO Event
ATTACH;FMTTYPE=image/png:https://bwepto.org/wp-content/uploads/2025/09/September.png
END:VEVENT
BEGIN:VEVENT
DTSTART;TZID=America/Chicago:20251002T060000
DTEND;TZID=America/Chicago:20251002T190000
DTSTAMP:20260423T150747
CREATED:20241015T224646Z
LAST-MODIFIED:20250821T141257Z
UID:1736-1759384800-1759431600@bwepto.org
SUMMARY:Scooter's Coffee Spirit Night
DESCRIPTION:☕🐾 Fuel Up & Support BWE! 🐾☕ \nSwing by the drive-thru at Scooter’s Coffee and caffeinate for the day! 🌟When you mention Birnham Woods Elementary at checkout\, Scooter’s will donate extra 💵 to our school. 🎉 \nThe offer is good all day long — so grab your favorite drink in the morning\, noon\, or night and help support BWE! 💛📚
URL:https://bwepto.org/event/scooters-coffee-spirit-night/
LOCATION:Scooter’s Coffee\, 27914 Birnham Woods Dr.\, Spring\, TX\, 77386\, United States
CATEGORIES:PTO Event,Spirit Night
ATTACH;FMTTYPE=image/png:https://bwepto.org/wp-content/uploads/2025/08/scooters.png
END:VEVENT
BEGIN:VEVENT
DTSTART;TZID=America/Chicago:20250925T110000
DTEND;TZID=America/Chicago:20250925T210000
DTSTAMP:20260423T150747
CREATED:20250816T171218Z
LAST-MODIFIED:20250820T203026Z
UID:2374-1758798000-1758834000@bwepto.org
SUMMARY:Pepperoni's Spirit Day
DESCRIPTION: 🎉 Pizza Party Alert! 🍕🎉Take a break from cooking and help Birnham Woods Elementary at the same time! \nHead to Pepperoni’s today for yummy pizza\, cheesy pepperoni rolls\, or a fresh salad — for lunch or dinner! \nJust tell them “BWE sent me!” when you order\, and our school will earn a slice of the proceeds! 💸➡️🏫 \nBring your appetite and your school spirit — let’s make it a Pizza-tastic Day for BWE! 🎈🎉
URL:https://bwepto.org/event/pepperonis-spirit-day/
LOCATION:TX
CATEGORIES:PTO Event,Spirit Night
ATTACH;FMTTYPE=image/png:https://bwepto.org/wp-content/uploads/2025/08/pepperonis.png
END:VEVENT
BEGIN:VEVENT
DTSTART;TZID=America/Chicago:20250919T180000
DTEND;TZID=America/Chicago:20250919T200000
DTSTAMP:20260423T150747
CREATED:20241019T193019Z
LAST-MODIFIED:20250829T134052Z
UID:1743-1758304800-1758312000@bwepto.org
SUMMARY:Girls Paint Night
DESCRIPTION:🎨✨ BWE Girls Paint Night! ✨🎨 \nAttention all aspiring Picassos and Monets! 🖌️🌟We’re inviting all BWE girls to join us for a special guided paint night in the BWE cafeteria. \nOur incredible art teacher\, Mr. T.\, will lead the evening — guiding our little artists step by step to create their own masterpieces. 🐾💛 \n🎟️ Purchase your tickets to reserve your spot!Seats are limited\, so don’t wait to sign up for this creative night of fun! \n\nEarly Bird pricing $12 until September 5\, 2025\nRegular pricing $15 until September 19\, 2025\nAt door pricing $20 if tickets are still available\n\nHUGE THANK YOU TO OUR SPONSOR
URL:https://bwepto.org/event/mother-daughter-paint-night/
LOCATION:Birnham Woods Elementary\, 31150 Birnham Woods\, Spring\, TX\, 77386\, United States
CATEGORIES:PTO Event
ATTACH;FMTTYPE=image/png:https://bwepto.org/wp-content/uploads/2025/08/Girls-paint-night-with-sponsor.png
END:VEVENT
BEGIN:VEVENT
DTSTART;TZID=America/Chicago:20250911T093000
DTEND;TZID=America/Chicago:20250911T103000
DTSTAMP:20260423T150747
CREATED:20230717T000112Z
LAST-MODIFIED:20250821T142919Z
UID:475-1757583000-1757586600@bwepto.org
SUMMARY:PTO General Meeting - September
DESCRIPTION:🐾📅 Join the BWE PTO Meeting! 📅🐾 \nWant to get more involved at Birnham Woods Elementary? 💛✨Come join our monthly PTO meeting! \nWe’ll be:✔️ Reviewing recent event successes 🎉✔️ Planning exciting upcoming events 📚🌟✔️ Asking for volunteers to help make it all happen 🙌 \nYour voice and support make a big difference — we’d love to see you there! 💐
URL:https://bwepto.org/event/pto-general-meeting-september/
LOCATION:The Falls at Imperial Oaks Clubhouse\, 31220 Birnham Woods\, Spring\, TX\, 77386\, United States
CATEGORIES:PTO Event
ATTACH;FMTTYPE=image/png:https://bwepto.org/wp-content/uploads/2025/06/september-meeting.png
END:VEVENT
BEGIN:VEVENT
DTSTART;TZID=UTC:20250813T110000
DTEND;TZID=UTC:20250813T210000
DTSTAMP:20260423T150747
CREATED:20230803T012558Z
LAST-MODIFIED:20250714T145435Z
UID:852-1755082800-1755118800@bwepto.org
SUMMARY:Spirit Night - Great American Cookie Company/Marble Slab Creamery
DESCRIPTION:Celebrate the first day of school with some yummy ice cream and cookies at Great American Cookie Company/Marble Slab Creamery from 2-8pm! Mention Birnham Woods Elementary so that our PTO receives a % of your purchase. Thank you for supporting BWE to help us be the Best Place to Be!
URL:https://bwepto.org/event/spirit-night-great-american-cookie-company-marble-slab-creamery/
LOCATION:Great American Cookie Company/Marble Slab Creamery\, 3779 Riley Fuzzel Rd. #600\, Spring\, TX\, 77386\, United States
CATEGORIES:PTO Event,Spirit Night
ATTACH;FMTTYPE=image/png:https://bwepto.org/wp-content/uploads/2025/06/great-american-cookie.png
END:VEVENT
BEGIN:VEVENT
DTSTART;TZID=UTC:20250117T173000
DTEND;TZID=UTC:20250117T184500
DTSTAMP:20260423T150747
CREATED:20230825T201416Z
LAST-MODIFIED:20250105T230405Z
UID:981-1737135000-1737139500@bwepto.org
SUMMARY:Boys & Bikes
DESCRIPTION:All BWE boys and any accompanying adult (18 years or older) are invited to “Boys and Bikes” BMX show! Tickets will go on sale in January 2025. All attendees will need to purchase a ticket. \nPURCHASE YOUR TICKETS HERE\n  \nSponsored by Design Outdoor Network \n \n  \n  \n  \n 
URL:https://bwepto.org/event/boys-bikes/
LOCATION:Birnham Woods Elementary\, 31150 Birnham Woods\, Spring\, TX\, 77386\, United States
CATEGORIES:PTO Event
END:VEVENT
BEGIN:VEVENT
DTSTART;TZID=UTC:20240905T100000
DTEND;TZID=UTC:20240905T110000
DTSTAMP:20260423T150747
CREATED:20230716T232322Z
LAST-MODIFIED:20240722T185503Z
UID:467-1725530400-1725534000@bwepto.org
SUMMARY:Room Parent Meeting - Tentative
DESCRIPTION:We will gather all of the people selected as room parents to go over the duties and responsibilities of being a room parent for the year.
URL:https://bwepto.org/event/room-parent-meeting/
LOCATION:The Falls at Imperial Oaks Clubhouse\, 31220 Birnham Woods\, Spring\, TX\, 77386\, United States
CATEGORIES:PTO Event
END:VEVENT
BEGIN:VEVENT
DTSTART;TZID=UTC:20240812T110000
DTEND;TZID=UTC:20240812T210000
DTSTAMP:20260423T150747
CREATED:20230729T030111Z
LAST-MODIFIED:20240723T001216Z
UID:808-1723460400-1723496400@bwepto.org
SUMMARY:SPIRIT NIGHT - Crust Pizza Co.
DESCRIPTION:Let Crust Pizza Co. do the cooking for your family! Come out and support Birnham Woods Elementary at Crust Pizza Co. off Rayford. Leave your receipt in the bin by the register and BWE PTO will receive a percentage of the total sales.
URL:https://bwepto.org/event/spirit-night-crust-pizza-co/
LOCATION:Crust Pizza Co.\, 3535 Rayford Road #600\, Spring\, TX\, 77386\, United States
CATEGORIES:All School Event,PTO Board Only,PTO Event,Spirit Night
END:VEVENT
BEGIN:VEVENT
DTSTART;VALUE=DATE:20240418
DTEND;VALUE=DATE:20240425
DTSTAMP:20260423T150747
CREATED:20230825T203525Z
LAST-MODIFIED:20240416T172529Z
UID:990-1713398400-1714003199@bwepto.org
SUMMARY:Silent Auction
DESCRIPTION:Our annual Silent Auction items will be available to bid on starting April 18th. Final bids will be accepted on April 24th. There will be a variety of options to bid on from 1st in line in car rider line\, reserved parking spot\, paint a rock\, and so much more! Help support our school by bidding on all of the fun items! \nEXPLORE THE SILENT AUCTION HERE \n 
URL:https://bwepto.org/event/silent-auction/
LOCATION:Birnham Woods Elementary\, 31150 Birnham Woods\, Spring\, TX\, 77386\, United States
CATEGORIES:All School Event,PTO Event
ATTACH;FMTTYPE=image/jpeg:https://bwepto.org/wp-content/uploads/2023/08/silent-auction.jpg
END:VEVENT
BEGIN:VEVENT
DTSTART;TZID=UTC:20240226T080000
DTEND;TZID=UTC:20240301T150000
DTSTAMP:20260423T150747
CREATED:20230825T202617Z
LAST-MODIFIED:20230825T202617Z
UID:987-1708934400-1709305200@bwepto.org
SUMMARY:Penny Wars
DESCRIPTION:1…2…3…4 I declare a Penny War! \nDig through the couch cushions\, check your pockets for loose change and gather up all your coins for this years Penny War! Each grade will have a bucket to collect coins. The grade with the most coins will win a prize! Remember\, pennies are best! All other coins will deduct from the total in each bucket.
URL:https://bwepto.org/event/penny-wars/
LOCATION:Birnham Woods Elementary\, 31150 Birnham Woods\, Spring\, TX\, 77386\, United States
CATEGORIES:All School Event,PTO Event
ATTACH;FMTTYPE=image/jpeg:https://bwepto.org/wp-content/uploads/2023/08/penny-war.jpg
END:VEVENT
BEGIN:VEVENT
DTSTART;VALUE=DATE:20231102
DTEND;VALUE=DATE:20231103
DTSTAMP:20260423T150747
CREATED:20231027T141631Z
LAST-MODIFIED:20231027T142205Z
UID:1128-1698883200-1698969599@bwepto.org
SUMMARY:Spirit Night - Jax Burgers
DESCRIPTION:Skip the cooking and grab a burger at Jax Burgers throughout the day to support BWE. Make sure to mention BWE at checkout and a portion of the proceeds will go back to help our school!
URL:https://bwepto.org/event/spirit-night-jax-burgers/
LOCATION:Jax Burgers\, 3555 Rayford Road\, Spring\, TX\, 77386\, United States
CATEGORIES:PTO Event,Spirit Night
ATTACH;FMTTYPE=image/jpeg:https://bwepto.org/wp-content/uploads/2023/10/JaxBurger.jpg
END:VEVENT
BEGIN:VEVENT
DTSTART;TZID=UTC:20231004T110000
DTEND;TZID=UTC:20231004T210000
DTSTAMP:20260423T150747
CREATED:20230825T200559Z
LAST-MODIFIED:20230825T200559Z
UID:979-1696417200-1696453200@bwepto.org
SUMMARY:MOD Pizza Spirit Night
DESCRIPTION:Take the night off from cooking and join us at MOD Pizza for the BWE Spirit Night! A portion of all sales proceeds will go back to support the BWE PTO. Please make sure to tell the employees at MOD Pizza you’re joining them for the BWE Spirit Night!
URL:https://bwepto.org/event/mod-pizza-spirit-night/
LOCATION:MOD Pizza\, 3478 Discovery Creek Blvd Suite 100\, Spring\, TX\, 77386\, United States
CATEGORIES:PTO Event,Spirit Night
ATTACH;FMTTYPE=image/png:https://bwepto.org/wp-content/uploads/2023/08/mod-pizza.png
END:VEVENT
BEGIN:VEVENT
DTSTART;TZID=UTC:20230930T173000
DTEND;TZID=UTC:20230930T193000
DTSTAMP:20260423T150747
CREATED:20230825T193321Z
LAST-MODIFIED:20230918T143138Z
UID:976-1696095000-1696102200@bwepto.org
SUMMARY:Father/Son Event
DESCRIPTION:Gear up for our annual Father/Son event at the YMCA on September 30th starting at 5:30 p.m.
URL:https://bwepto.org/event/father-son-event/
LOCATION:YMCA\, 5201 Imperial Promenade Dr.\, Spring\, TX\, 77386\, United States
CATEGORIES:PTO Event
ATTACH;FMTTYPE=image/jpeg:https://bwepto.org/wp-content/uploads/2023/06/IMG_5761.jpeg
END:VEVENT
END:VCALENDAR