BEGIN:VCALENDAR
VERSION:2.0
PRODID:-//Birnham Woods Elementary PTO - ECPv6.15.16//NONSGML v1.0//EN
CALSCALE:GREGORIAN
METHOD:PUBLISH
X-WR-CALNAME:Birnham Woods Elementary PTO
X-ORIGINAL-URL:https://bwepto.org
X-WR-CALDESC:Events for Birnham Woods Elementary PTO
REFRESH-INTERVAL;VALUE=DURATION:PT1H
X-Robots-Tag:noindex
X-PUBLISHED-TTL:PT1H
BEGIN:VTIMEZONE
TZID:UTC
BEGIN:STANDARD
TZOFFSETFROM:+0000
TZOFFSETTO:+0000
TZNAME:UTC
DTSTART:20220101T000000
END:STANDARD
END:VTIMEZONE
BEGIN:VEVENT
DTSTART;VALUE=DATE:20240219
DTEND;VALUE=DATE:20240220
DTSTAMP:20260423T182913
CREATED:20230719T034618Z
LAST-MODIFIED:20230719T034618Z
UID:626-1708300800-1708387199@bwepto.org
SUMMARY:Holiday - No School
DESCRIPTION:
URL:https://bwepto.org/event/holiday-no-school/
LOCATION:Birnham Woods Elementary\, 31150 Birnham Woods\, Spring\, TX\, 77386\, United States
CATEGORIES:All School Event,School Holiday
ATTACH;FMTTYPE=image/jpeg:https://bwepto.org/wp-content/uploads/2023/07/no-school.jpg
ORGANIZER;CN="Birnham Woods Elementary":MAILTO:birnhamwoods@conroeisd.net
END:VEVENT
BEGIN:VEVENT
DTSTART;VALUE=DATE:20231130
DTEND;VALUE=DATE:20231216
DTSTAMP:20260423T182913
CREATED:20230719T025720Z
LAST-MODIFIED:20230719T025720Z
UID:553-1701302400-1702684799@bwepto.org
SUMMARY:Bulldog Holidays
DESCRIPTION:Let’s get in the holiday spirit with the “12 Bulldog Holidays” from November 30th-December 15th. Each day will be a new theme for our bulldogs to dress up and show their holiday spirit! More details to come…
URL:https://bwepto.org/event/bulldog-holidays/
LOCATION:Birnham Woods Elementary\, 31150 Birnham Woods\, Spring\, TX\, 77386\, United States
CATEGORIES:All School Event
ATTACH;FMTTYPE=image/jpeg:https://bwepto.org/wp-content/uploads/2023/06/318149628_10104321393165528_8976938735864854806_n.jpg
ORGANIZER;CN="Birnham Woods Elementary":MAILTO:birnhamwoods@conroeisd.net
END:VEVENT
END:VCALENDAR