BEGIN:VCALENDAR
VERSION:2.0
PRODID:-//Birnham Woods Elementary PTO - ECPv6.15.16//NONSGML v1.0//EN
CALSCALE:GREGORIAN
METHOD:PUBLISH
X-WR-CALNAME:Birnham Woods Elementary PTO
X-ORIGINAL-URL:https://bwepto.org
X-WR-CALDESC:Events for Birnham Woods Elementary PTO
REFRESH-INTERVAL;VALUE=DURATION:PT1H
X-Robots-Tag:noindex
X-PUBLISHED-TTL:PT1H
BEGIN:VTIMEZONE
TZID:UTC
BEGIN:STANDARD
TZOFFSETFROM:+0000
TZOFFSETTO:+0000
TZNAME:UTC
DTSTART:20250101T000000
END:STANDARD
END:VTIMEZONE
BEGIN:VEVENT
DTSTART;VALUE=DATE:20260501
DTEND;VALUE=DATE:20260502
DTSTAMP:20260423T150622
CREATED:20230719T043427Z
LAST-MODIFIED:20250821T140751Z
UID:687-1777593600-1777679999@bwepto.org
SUMMARY:National Principals Day
DESCRIPTION:🎉🐾 Thank You\, BWE Leaders! 🐾🎉 \nA big Bulldog THANK YOU to Dr. Barnes\, Mrs. Davidson\, and Mrs. Bleecker! 💛We appreciate all the dedication\, care\, and hard work you put into making Birnham Woods Elementary the very best place to be! 🌟📚 \nYour Bulldogs are grateful for you every single day! 🎈👏
URL:https://bwepto.org/event/national-principals-day/
LOCATION:Birnham Woods Elementary\, 31150 Birnham Woods\, Spring\, TX\, 77386\, United States
CATEGORIES:All School Event
ATTACH;FMTTYPE=image/png:https://bwepto.org/wp-content/uploads/2025/08/principal.png
ORGANIZER;CN="Birnham Woods Elementary":MAILTO:birnhamwoods@conroeisd.net
END:VEVENT
BEGIN:VEVENT
DTSTART;VALUE=DATE:20260501
DTEND;VALUE=DATE:20260502
DTSTAMP:20260423T150622
CREATED:20230719T061318Z
LAST-MODIFIED:20250610T191325Z
UID:690-1777593600-1777679999@bwepto.org
SUMMARY:School Lunch Hero Day
DESCRIPTION:Thank you to all of our lunch staff for keeping our bellies full and happy throughout the year!
URL:https://bwepto.org/event/school-lunch-hero-day/
LOCATION:Birnham Woods Elementary\, 31150 Birnham Woods\, Spring\, TX\, 77386\, United States
CATEGORIES:All School Event
ATTACH;FMTTYPE=image/png:https://bwepto.org/wp-content/uploads/2023/07/school-lunch-hero-day.png
ORGANIZER;CN="Birnham Woods Elementary":MAILTO:birnhamwoods@conroeisd.net
END:VEVENT
BEGIN:VEVENT
DTSTART;VALUE=DATE:20260504
DTEND;VALUE=DATE:20260509
DTSTAMP:20260423T150622
CREATED:20230719T061742Z
LAST-MODIFIED:20250821T141628Z
UID:695-1777852800-1778284799@bwepto.org
SUMMARY:Teacher Appreciation Week
DESCRIPTION:🍎💛 We LOVE Our Teachers! 💛🍎 \nThis week is all about celebrating our amazing teachers! 🌟🐾Let’s shower them with love and appreciation for everything they do to make BWE the best place to be. ✨ \n📅 A list of daily activities will be shared by room parents — join in one day or every day\, it’s up to you! 🎉🎁 Want to find the perfect gift? Check out your teacher’s list of favorites below. \n👉 [VIEW YOUR TEACHER’S FAVORITE LIST] 👈
URL:https://bwepto.org/event/teacher-appreciation-week/
LOCATION:Birnham Woods Elementary\, 31150 Birnham Woods\, Spring\, TX\, 77386\, United States
CATEGORIES:All School Event
ATTACH;FMTTYPE=image/png:https://bwepto.org/wp-content/uploads/2025/08/teacher-appreciation-week.png
ORGANIZER;CN="Birnham Woods Elementary":MAILTO:birnhamwoods@conroeisd.net
END:VEVENT
BEGIN:VEVENT
DTSTART;VALUE=DATE:20260506
DTEND;VALUE=DATE:20260507
DTSTAMP:20260423T150622
CREATED:20230719T062439Z
LAST-MODIFIED:20250821T140456Z
UID:704-1778025600-1778111999@bwepto.org
SUMMARY:National School Nurse Day
DESCRIPTION:💙🏥 We Love Our Clinic Team! 🏥💙 \nLet’s show appreciation for the ones who help keep us healthy every day! 🌟We are so thankful for our clinic staff as they care for our Bulldogs with kindness and dedication. 🐾💛 \n✨ Stop by the clinic to drop off a note of encouragement 💌 or a small gift 🎁 to show how much they mean to our school family!
URL:https://bwepto.org/event/national-school-nurse-day/
LOCATION:Birnham Woods Elementary\, 31150 Birnham Woods\, Spring\, TX\, 77386\, United States
CATEGORIES:All School Event
ATTACH;FMTTYPE=image/png:https://bwepto.org/wp-content/uploads/2025/08/nurse-.png
ORGANIZER;CN="Birnham Woods Elementary":MAILTO:birnhamwoods@conroeisd.net
END:VEVENT
BEGIN:VEVENT
DTSTART;VALUE=DATE:20260518
DTEND;VALUE=DATE:20260519
DTSTAMP:20260423T150622
CREATED:20230719T062725Z
LAST-MODIFIED:20250821T135603Z
UID:707-1779062400-1779148799@bwepto.org
SUMMARY:National Speech Pathologist Day
DESCRIPTION:🗣️💛 We Appreciate Our Speech Pathologists! 💛🗣️ \nThis week\, let’s celebrate our amazing speech pathologists who work so hard to support and encourage our students every day! 🌟🐾 \nFeel free to write them a sweet note of thanks ✍️💌 or surprise them with a small gift 🎁.Need ideas? You can check out their list of favorites! 💐✨
URL:https://bwepto.org/event/national-speech-pathologist-day/
LOCATION:Birnham Woods Elementary\, 31150 Birnham Woods\, Spring\, TX\, 77386\, United States
CATEGORIES:All School Event
ATTACH;FMTTYPE=image/png:https://bwepto.org/wp-content/uploads/2025/08/National-speech-pathologist-day.png.png
ORGANIZER;CN="Birnham Woods Elementary":MAILTO:birnhamwoods@conroeisd.net
END:VEVENT
BEGIN:VEVENT
DTSTART;TZID=UTC:20260522T121000
DTEND;TZID=UTC:20260522T121000
DTSTAMP:20260423T150622
CREATED:20230719T064104Z
LAST-MODIFIED:20250821T135040Z
UID:722-1779451800-1779451800@bwepto.org
SUMMARY:Last Day of School!
DESCRIPTION:🎉🐾 Congratulations\, Bulldogs! 🐾🎉 \nWay to go\, Bulldogs — what an amazing 2025–2026 school year it has been! 💛📚We are so proud of all your hard work\, dedication\, and achievements. 🌟 \n✨ Don’t forget: Early dismissal is at 12:10 p.m. so you can get a jump start on summer fun! 🌞🍉 \nHave a safe\, happy\, and unforgettable summer break — we’ll see you soon! 🎈🎶
URL:https://bwepto.org/event/last-day-of-school/
LOCATION:Birnham Woods Elementary\, 31150 Birnham Woods\, Spring\, TX\, 77386\, United States
CATEGORIES:All School Event
ATTACH;FMTTYPE=image/png:https://bwepto.org/wp-content/uploads/2025/08/last-day-of-school.png
ORGANIZER;CN="Birnham Woods Elementary":MAILTO:birnhamwoods@conroeisd.net
END:VEVENT
END:VCALENDAR