BEGIN:VCALENDAR
VERSION:2.0
PRODID:-//Birnham Woods Elementary PTO - ECPv6.15.16//NONSGML v1.0//EN
CALSCALE:GREGORIAN
METHOD:PUBLISH
X-WR-CALNAME:Birnham Woods Elementary PTO
X-ORIGINAL-URL:https://bwepto.org
X-WR-CALDESC:Events for Birnham Woods Elementary PTO
REFRESH-INTERVAL;VALUE=DURATION:PT1H
X-Robots-Tag:noindex
X-PUBLISHED-TTL:PT1H
BEGIN:VTIMEZONE
TZID:UTC
BEGIN:STANDARD
TZOFFSETFROM:+0000
TZOFFSETTO:+0000
TZNAME:UTC
DTSTART:20230101T000000
END:STANDARD
END:VTIMEZONE
BEGIN:VEVENT
DTSTART;VALUE=DATE:20240524
DTEND;VALUE=DATE:20240525
DTSTAMP:20260425T054547
CREATED:20230719T064234Z
LAST-MODIFIED:20230719T064234Z
UID:725-1716508800-1716595199@bwepto.org
SUMMARY:Staff Work Day
DESCRIPTION:No school for students as the teachers wrap up their school year\, turn in their grades and clean up their rooms!
URL:https://bwepto.org/event/staff-work-day/
LOCATION:Birnham Woods Elementary\, 31150 Birnham Woods\, Spring\, TX\, 77386\, United States
CATEGORIES:All School Event,School Holiday
ATTACH;FMTTYPE=image/jpeg:https://bwepto.org/wp-content/uploads/2023/07/staff-development.jpg
ORGANIZER;CN="Birnham Woods Elementary":MAILTO:birnhamwoods@conroeisd.net
END:VEVENT
END:VCALENDAR